BEGIN:VCALENDAR
VERSION:2.0
PRODID:-//Squarespace Inc/Squarespace 6//v6//EN
BEGIN:VEVENT
UID:58a5afc4414fb5112de54cb6@squarespace.com
DTSTAMP:20170912T190533Z
DTSTART:20170709T090000Z
DTEND:20170709T170000Z
SUMMARY:Spoon Carving Workshop SOLD OUT
END:VEVENT
END:VCALENDAR
