BEGIN:VCALENDAR
VERSION:2.0
PRODID:-//Squarespace Inc/Squarespace 6//v6//EN
BEGIN:VEVENT
UID:59b82ea303596e7daec2dcfb@squarespace.com
DTSTAMP:20171009T121128Z
DTSTART:20171015T090000Z
DTEND:20171015T170000Z
SUMMARY:Spoon Carving Workshop in Westport
END:VEVENT
END:VCALENDAR
