BEGIN:VCALENDAR
VERSION:2.0
PRODID:-//Squarespace Inc/Squarespace 6//v6//EN
BEGIN:VEVENT
UID:59b8332903596e7daec3243d@squarespace.com
DTSTAMP:20171009T121439Z
DTSTART:20171126T100000Z
DTEND:20171126T170000Z
SUMMARY:Spoon Carving Workshop in Dublin
END:VEVENT
END:VCALENDAR
