BEGIN:VCALENDAR
VERSION:2.0
PRODID:-//Squarespace Inc/Squarespace 6//v6//EN
BEGIN:VEVENT
UID:59db682f1f318d0de5e4d745@squarespace.com
DTSTAMP:20171009T143131Z
DTSTART:20171030T100000Z
DTEND:20171030T170000Z
SUMMARY:Spoon Carving Workshop in Kilkenny - SOLD OUT
END:VEVENT
END:VCALENDAR
