BEGIN:VCALENDAR
VERSION:2.0
PRODID:-//Squarespace Inc/Squarespace 6//v6//EN
BEGIN:VEVENT
UID:59b82f66017db293c96001ac@squarespace.com
DTSTAMP:20171009T121309Z
DTSTART:20180128T100000Z
DTEND:20180128T180000Z
SUMMARY:Spoon Carving Workshop in Westport
END:VEVENT
END:VCALENDAR
