BEGIN:VCALENDAR
VERSION:2.0
PRODID:-//Squarespace Inc/Squarespace 6//v6//EN
BEGIN:VEVENT
UID:59b82ed6a803bb682a048166@squarespace.com
DTSTAMP:20171009T121252Z
DTSTART:20171105T100000Z
DTEND:20171105T180000Z
SUMMARY:Spoon Carving Workshop in Westport
END:VEVENT
END:VCALENDAR
