BEGIN:VCALENDAR
VERSION:2.0
PRODID:-//Squarespace Inc/Squarespace 6//v6//EN
BEGIN:VEVENT
UID:59b82faa46c3c44ceeb17ad7@squarespace.com
DTSTAMP:20171009T121325Z
DTSTART:20180210T100000Z
DTEND:20180210T180000Z
SUMMARY:Spoon Carving Workshop in Westport
END:VEVENT
END:VCALENDAR
