BEGIN:VCALENDAR
VERSION:2.0
PRODID:-//Squarespace Inc/Squarespace 6//v6//EN
BEGIN:VEVENT
UID:58a5af831b10e3ec234d1342@squarespace.com
DTSTAMP:20170912T190553Z
DTSTART:20170604T090000Z
DTEND:20170604T170000Z
SUMMARY:Spoon Carving Workshop (Bank Holiday Weekend) SOLD OUT
END:VEVENT
END:VCALENDAR
