BEGIN:VCALENDAR
VERSION:2.0
PRODID:-//Squarespace Inc/Squarespace 6//v6//EN
BEGIN:VEVENT
UID:5822332e46c3c4fdf3ddc2f0@squarespace.com
DTSTAMP:20170117T113222Z
DTSTART:20170304T100000Z
DTEND:20170304T180000Z
SUMMARY:Spoon Carving Workshop - SOLD OUT
GEO:53.787275;-9.509291
LOCATION:Hewn\, Corrig\, Sandyhill\, Westport\, Co. Mayo\, Ireland
END:VEVENT
END:VCALENDAR
