BEGIN:VCALENDAR
VERSION:2.0
PRODID:-//Squarespace Inc/Squarespace 6//v6//EN
BEGIN:VEVENT
UID:58223291893fc00a1ff39282@squarespace.com
DTSTAMP:20170216T135331Z
DTSTART:20170219T100000Z
DTEND:20170219T180000Z
SUMMARY:Spoon Carving Workshop (1 ticket left!)
GEO:53.787275;-9.509291
LOCATION:Hewn\, Corrig\, Sandyhill\, Westport\, Co. Mayo\, Ireland
END:VEVENT
END:VCALENDAR
