BEGIN:VCALENDAR
VERSION:2.0
PRODID:-//Squarespace Inc/Squarespace 6//v6//EN
BEGIN:VEVENT
UID:582232cb197aea6b50ea735e@squarespace.com
DTSTAMP:20161108T223122Z
DTSTART:20170408T090000Z
DTEND:20170408T170000Z
SUMMARY:Spoon Carving Workshop
GEO:53.787275;-9.509291
LOCATION:Hewn\, Corrig\, Sandyhill\, Westport\, Co. Mayo\, Ireland
END:VEVENT
END:VCALENDAR
