BEGIN:VCALENDAR
VERSION:2.0
PRODID:-//Squarespace Inc/Squarespace 6//v6//EN
BEGIN:VEVENT
UID:58a5af0259cc689ad634f0f8@squarespace.com
DTSTAMP:20170525T145648Z
DTSTART:20170528T090000Z
DTEND:20170528T170000Z
SUMMARY:Spoon Carving Workshop (SOLD OUT)
END:VEVENT
END:VCALENDAR
