BEGIN:VCALENDAR
VERSION:2.0
PRODID:-//Squarespace Inc/Squarespace 6//v6//EN
BEGIN:VEVENT
UID:58223256bebafba4ab6da4fa@squarespace.com
DTSTAMP:20170117T113130Z
DTSTART:20170121T100000Z
DTEND:20170121T180000Z
SUMMARY:Spoon Carving Workshop - SOLD OUT
GEO:53.787275;-9.509291
LOCATION:Hewn\, Corrig\, Sandyhill\, Westport\, Co. Mayo\, Ireland
END:VEVENT
END:VCALENDAR
