BEGIN:VCALENDAR
VERSION:2.0
PRODID:-//Squarespace Inc/Squarespace 6//v6//EN
BEGIN:VEVENT
UID:57687e0df7e0ab978ac41bfa@squarespace.com
DTSTAMP:20160620T234321Z
DTSTART:20160827T090000Z
DTEND:20160827T170000Z
SUMMARY:Spoon Carving Workshop
END:VEVENT
END:VCALENDAR
