BEGIN:VCALENDAR
VERSION:2.0
PRODID:-//Squarespace Inc/Squarespace 6//v6//EN
BEGIN:VEVENT
UID:57687d1bb3db2b9400f6377a@squarespace.com
DTSTAMP:20160825T142928Z
DTSTART:20160717T090000Z
DTEND:20160717T170000Z
SUMMARY:Spoon Carving Workshop
END:VEVENT
END:VCALENDAR
