BEGIN:VCALENDAR
VERSION:2.0
PRODID:-//Squarespace Inc/Squarespace 6//v6//EN
BEGIN:VEVENT
UID:56e029f2cf80a1e932461f9b@squarespace.com
DTSTAMP:20160309T141722Z
DTSTART:20160423T090000Z
DTEND:20160423T170000Z
SUMMARY:One-Day Spoon Carving Workshop
GEO:53.787275;-9.509291
LOCATION:Hewn\, Corrig\, Sandyhill\, Westport\, Co. Mayo\, F28 X674\, Irela
 nd
END:VEVENT
END:VCALENDAR
