BEGIN:VCALENDAR
VERSION:2.0
PRODID:-//Squarespace Inc/Squarespace 6//v6//EN
BEGIN:VEVENT
UID:56e02e7301dbaed599e97f6d@squarespace.com
DTSTAMP:20160309T141526Z
DTSTART:20160326T100000Z
DTEND:20160326T180000Z
SUMMARY:One-Day Spoon Carving Workshop
END:VEVENT
END:VCALENDAR
