BEGIN:VCALENDAR
VERSION:2.0
PRODID:-//Squarespace Inc/Squarespace 6//v6//EN
BEGIN:VEVENT
UID:56e02e2407eaa0f075507780@squarespace.com
DTSTAMP:20160309T141824Z
DTSTART:20160528T090000Z
DTEND:20160528T170000Z
SUMMARY:One-Day Spoon Carving Workshop
END:VEVENT
END:VCALENDAR
