BEGIN:VCALENDAR
VERSION:2.0
PRODID:-//Squarespace Inc/Squarespace 6//v6//EN
BEGIN:VEVENT
UID:56e02dcf859fd0fc99415930@squarespace.com
DTSTAMP:20160620T234458Z
DTSTART:20160626T090000Z
DTEND:20160626T170000Z
SUMMARY:One-Day Spoon Carving Workshop
END:VEVENT
END:VCALENDAR
