BEGIN:VCALENDAR
VERSION:2.0
PRODID:-//Squarespace Inc/Squarespace 6//v6//EN
BEGIN:VEVENT
UID:57bf0a0a2e69cf01da3bd5e9@squarespace.com
DTSTAMP:20161109T124244Z
DTSTART:20161126T100000Z
DTEND:20161126T200000Z
SUMMARY:Spoon Carving At The Chocolate Factory (SOLD OUT)
GEO:53.351328;-6.267678
LOCATION:The Chocolate Factory\, 26 King's Inns Street\, Dublin\, County Du
 blin\, Ireland
END:VEVENT
END:VCALENDAR
